BEGIN:VCALENDAR
VERSION:2.0
PRODID:-//Secret Crisis Comics - ECPv6.15.20//NONSGML v1.0//EN
CALSCALE:GREGORIAN
METHOD:PUBLISH
X-ORIGINAL-URL:https://secretcrisiscomics.com
X-WR-CALDESC:Events for Secret Crisis Comics
REFRESH-INTERVAL;VALUE=DURATION:PT1H
X-Robots-Tag:noindex
X-PUBLISHED-TTL:PT1H
BEGIN:VTIMEZONE
TZID:America/Halifax
BEGIN:DAYLIGHT
TZOFFSETFROM:-0400
TZOFFSETTO:-0300
TZNAME:ADT
DTSTART:20180311T060000
END:DAYLIGHT
BEGIN:STANDARD
TZOFFSETFROM:-0300
TZOFFSETTO:-0400
TZNAME:AST
DTSTART:20181104T050000
END:STANDARD
BEGIN:DAYLIGHT
TZOFFSETFROM:-0400
TZOFFSETTO:-0300
TZNAME:ADT
DTSTART:20190310T060000
END:DAYLIGHT
BEGIN:STANDARD
TZOFFSETFROM:-0300
TZOFFSETTO:-0400
TZNAME:AST
DTSTART:20191103T050000
END:STANDARD
BEGIN:DAYLIGHT
TZOFFSETFROM:-0400
TZOFFSETTO:-0300
TZNAME:ADT
DTSTART:20200308T060000
END:DAYLIGHT
BEGIN:STANDARD
TZOFFSETFROM:-0300
TZOFFSETTO:-0400
TZNAME:AST
DTSTART:20201101T050000
END:STANDARD
END:VTIMEZONE
BEGIN:VEVENT
DTSTART;TZID=America/Halifax:20190405T180000
DTEND;TZID=America/Halifax:20190405T220000
DTSTAMP:20260419T080037
CREATED:20190322T005835Z
LAST-MODIFIED:20190405T032809Z
UID:611-1554487200-1554501600@secretcrisiscomics.com
SUMMARY:Friday Night Magic - Commander Battle Royale
DESCRIPTION:6:00PM to 10:00PM\n$3\nBring you best commander deck and battle it out for group supremacy\nPrize to best in show\nAll finishers receive a door prize
URL:https://secretcrisiscomics.com/event/friday-night-magic-commander-challenge/
LOCATION:Secret Crisis Comics\, 1161 South Main Street\, Chelsea\, MI\, 48118\, United States
ORGANIZER;CN="Secret Crisis Comics":MAILTO:secretcrisiscomics@gmail.com
END:VEVENT
BEGIN:VEVENT
DTSTART;TZID=America/Halifax:20190407T140000
DTEND;TZID=America/Halifax:20190407T180000
DTSTAMP:20260419T080037
CREATED:20190322T010119Z
LAST-MODIFIED:20190405T032946Z
UID:613-1554645600-1554660000@secretcrisiscomics.com
SUMMARY:MTG - Two-Headed Giant Draft (Battlebond)
DESCRIPTION:$17 entry\nUsing the Battlebond set for this draft\nBring a partner\, solo players can come but cannot be guaranteed a spot\nPrizes to the top teams\nAll players receive a door prize at the event’s conclusion
URL:https://secretcrisiscomics.com/event/mtg-two-headed-giant-draft/
LOCATION:Secret Crisis Comics\, 1161 South Main Street\, Chelsea\, MI\, 48118\, United States
ORGANIZER;CN="Secret Crisis Comics":MAILTO:secretcrisiscomics@gmail.com
END:VEVENT
BEGIN:VEVENT
DTSTART;TZID=America/Halifax:20190408T173000
DTEND;TZID=America/Halifax:20190408T210000
DTSTAMP:20260419T080037
CREATED:20190405T033155Z
LAST-MODIFIED:20190405T033155Z
UID:649-1554744600-1554757200@secretcrisiscomics.com
SUMMARY:Game of Thrones Risk
DESCRIPTION:Come out and take your House to mastery in Westeros.\n5:30PM to 9:00PM\nFree\nLimited spots\, please call or email to reserve your spot\n734.593.7110 or secretcrisiscomics@gmail.com\n\n 
URL:https://secretcrisiscomics.com/event/game-of-thrones-risk/
LOCATION:Secret Crisis Comics\, 1161 South Main Street\, Chelsea\, MI\, 48118\, United States
ORGANIZER;CN="Secret Crisis Comics":MAILTO:secretcrisiscomics@gmail.com
END:VEVENT
BEGIN:VEVENT
DTSTART;VALUE=DATE:20190412
DTEND;VALUE=DATE:20190413
DTSTAMP:20260419T080037
CREATED:20190322T010229Z
LAST-MODIFIED:20190322T010229Z
UID:615-1555027200-1555113599@secretcrisiscomics.com
SUMMARY:MTG - Challenger Decks 2019 Release
DESCRIPTION:
URL:https://secretcrisiscomics.com/event/mtg-challenger-decks-2019-release/
LOCATION:Secret Crisis Comics\, 1161 South Main Street\, Chelsea\, MI\, 48118\, United States
ORGANIZER;CN="Secret Crisis Comics":MAILTO:secretcrisiscomics@gmail.com
END:VEVENT
BEGIN:VEVENT
DTSTART;TZID=America/Halifax:20190412T180000
DTEND;TZID=America/Halifax:20190412T220000
DTSTAMP:20260419T080037
CREATED:20190405T033417Z
LAST-MODIFIED:20190405T033729Z
UID:651-1555092000-1555106400@secretcrisiscomics.com
SUMMARY:Friday Night Magic: Draft (Core 2019)
DESCRIPTION:$16\n6:00PM to 10:00PM\nTop players to be rewarded\nDoor prizes for other finishers
URL:https://secretcrisiscomics.com/event/friday-night-magic-draft-core-2019/
LOCATION:Secret Crisis Comics\, 1161 South Main Street\, Chelsea\, MI\, 48118\, United States
ORGANIZER;CN="Secret Crisis Comics":MAILTO:secretcrisiscomics@gmail.com
END:VEVENT
BEGIN:VEVENT
DTSTART;TZID=America/Halifax:20190414T140000
DTEND;TZID=America/Halifax:20190414T180000
DTSTAMP:20260419T080037
CREATED:20190405T033654Z
LAST-MODIFIED:20190405T033654Z
UID:653-1555250400-1555264800@secretcrisiscomics.com
SUMMARY:MTG: Commander Challenge
DESCRIPTION:$5\n2:00pm to 6:00PM\nBring your best commander deck and battle others\, one-on-one (Note: this is NOT 1v1)\nTop players will receive store credit\nAll others receive door prizes
URL:https://secretcrisiscomics.com/event/mtg-commander-challenge-3/
LOCATION:Secret Crisis Comics\, 1161 South Main Street\, Chelsea\, MI\, 48118\, United States
ORGANIZER;CN="Secret Crisis Comics":MAILTO:secretcrisiscomics@gmail.com
END:VEVENT
BEGIN:VEVENT
DTSTART;TZID=America/Halifax:20190419T180000
DTEND;TZID=America/Halifax:20190419T220000
DTSTAMP:20260419T080037
CREATED:20190405T033932Z
LAST-MODIFIED:20190405T033932Z
UID:655-1555696800-1555711200@secretcrisiscomics.com
SUMMARY:Friday Night Magic: Commander Battle Royale
DESCRIPTION:6:00PM to 10:00PM\n$3\nBring you best commander deck and battle it out for group supremacy\nStore credit to best in show\nAll other finishers receive a door prize
URL:https://secretcrisiscomics.com/event/friday-night-magic-commander-battle-royale/
LOCATION:Secret Crisis Comics\, 1161 South Main Street\, Chelsea\, MI\, 48118\, United States
ORGANIZER;CN="Secret Crisis Comics":MAILTO:secretcrisiscomics@gmail.com
END:VEVENT
BEGIN:VEVENT
DTSTART;VALUE=DATE:20190421
DTEND;VALUE=DATE:20190422
DTSTAMP:20260419T080037
CREATED:20190415T234530Z
LAST-MODIFIED:20190415T234552Z
UID:680-1555804800-1555891199@secretcrisiscomics.com
SUMMARY:STORE CLOSED TODAY
DESCRIPTION:
URL:https://secretcrisiscomics.com/event/store-closed-today/
LOCATION:Secret Crisis Comics\, 1161 South Main Street\, Chelsea\, MI\, 48118\, United States
ORGANIZER;CN="Secret Crisis Comics":MAILTO:secretcrisiscomics@gmail.com
END:VEVENT
BEGIN:VEVENT
DTSTART;VALUE=DATE:20190427
DTEND;VALUE=DATE:20190428
DTSTAMP:20260419T080037
CREATED:20190427T050150Z
LAST-MODIFIED:20190427T050150Z
UID:694-1556323200-1556409599@secretcrisiscomics.com
SUMMARY:MTG: Signature Spellbook: Gideon Release
DESCRIPTION:
URL:https://secretcrisiscomics.com/event/mtg-signature-spellbook-gideon-release/
LOCATION:Secret Crisis Comics\, 1161 South Main Street\, Chelsea\, MI\, 48118\, United States
ORGANIZER;CN="Secret Crisis Comics":MAILTO:secretcrisiscomics@gmail.com
END:VEVENT
BEGIN:VEVENT
DTSTART;TZID=America/Halifax:20190427T000100
DTEND;TZID=America/Halifax:20190427T040000
DTSTAMP:20260419T080037
CREATED:20190322T010453Z
LAST-MODIFIED:20190322T010453Z
UID:617-1556323260-1556337600@secretcrisiscomics.com
SUMMARY:MTG - War of the Spark Prerelease
DESCRIPTION:$24 (paid in advance)\n$24 day of event\, cannot guarantee spots\nSealed format\, 3 rounds\nPrizes to top finishers
URL:https://secretcrisiscomics.com/event/mtg-war-of-the-spark-prerelease/
LOCATION:Secret Crisis Comics\, 1161 South Main Street\, Chelsea\, MI\, 48118\, United States
ORGANIZER;CN="Secret Crisis Comics":MAILTO:secretcrisiscomics@gmail.com
END:VEVENT
BEGIN:VEVENT
DTSTART;TZID=America/Halifax:20190427T000100
DTEND;TZID=America/Halifax:20190427T040000
DTSTAMP:20260419T080037
CREATED:20190405T034447Z
LAST-MODIFIED:20190405T034447Z
UID:659-1556323260-1556337600@secretcrisiscomics.com
SUMMARY:MTG: War of the Spark Prerelease
DESCRIPTION:12:01AM to 4:00AM\n$24\nPlease register prior to event to save your spot\nSealed format\nPrizes\nPizza at 11:30PM
URL:https://secretcrisiscomics.com/event/mtg-war-of-the-spark-prerelease-4/
LOCATION:Secret Crisis Comics\, 1161 South Main Street\, Chelsea\, MI\, 48118\, United States
ORGANIZER;CN="Secret Crisis Comics":MAILTO:secretcrisiscomics@gmail.com
END:VEVENT
BEGIN:VEVENT
DTSTART;TZID=America/Halifax:20190427T140000
DTEND;TZID=America/Halifax:20190427T180000
DTSTAMP:20260419T080037
CREATED:20190322T010551Z
LAST-MODIFIED:20190322T010551Z
UID:619-1556373600-1556388000@secretcrisiscomics.com
SUMMARY:MTG - War of the Spark Prerelease
DESCRIPTION:$24 (paid in advance)\n$24 day of event\, cannot guarantee spots\nSealed format\, 3 rounds\nPrizes to top finishers
URL:https://secretcrisiscomics.com/event/mtg-war-of-the-spark-prerelease-2/
LOCATION:Secret Crisis Comics\, 1161 South Main Street\, Chelsea\, MI\, 48118\, United States
ORGANIZER;CN="Secret Crisis Comics":MAILTO:secretcrisiscomics@gmail.com
END:VEVENT
BEGIN:VEVENT
DTSTART;TZID=America/Halifax:20190427T140000
DTEND;TZID=America/Halifax:20190427T180000
DTSTAMP:20260419T080037
CREATED:20190405T034548Z
LAST-MODIFIED:20190405T034548Z
UID:661-1556373600-1556388000@secretcrisiscomics.com
SUMMARY:MTG: War of the Spark Prerelease
DESCRIPTION:2:00PM to 6:00PM\n$24\nPlease register prior to event to save your spot\nSealed format\nPrizes
URL:https://secretcrisiscomics.com/event/mtg-war-of-the-spark-prerelease-5/
LOCATION:Secret Crisis Comics\, 1161 South Main Street\, Chelsea\, MI\, 48118\, United States
ORGANIZER;CN="Secret Crisis Comics":MAILTO:secretcrisiscomics@gmail.com
END:VEVENT
BEGIN:VEVENT
DTSTART;TZID=America/Halifax:20190428T140000
DTEND;TZID=America/Halifax:20190428T180000
DTSTAMP:20260419T080037
CREATED:20190322T010643Z
LAST-MODIFIED:20190322T010643Z
UID:621-1556460000-1556474400@secretcrisiscomics.com
SUMMARY:MTG - War of the Spark Prerelease
DESCRIPTION:$24 (paid in advance)\n$24 day of event\, cannot guarantee spots\nSealed format\, 3 rounds\nPrizes to top finishers
URL:https://secretcrisiscomics.com/event/mtg-war-of-the-spark-prerelease-3/
LOCATION:Secret Crisis Comics\, 1161 South Main Street\, Chelsea\, MI\, 48118\, United States
ORGANIZER;CN="Secret Crisis Comics":MAILTO:secretcrisiscomics@gmail.com
END:VEVENT
BEGIN:VEVENT
DTSTART;TZID=America/Halifax:20190428T140000
DTEND;TZID=America/Halifax:20190428T180000
DTSTAMP:20260419T080037
CREATED:20190405T034652Z
LAST-MODIFIED:20190405T034652Z
UID:663-1556460000-1556474400@secretcrisiscomics.com
SUMMARY:MTG: War of the Spark Prerelease
DESCRIPTION:2:00PM to 6:00PM\n$24\nPlease register prior to event to save your spot\nSealed format\nPrizes
URL:https://secretcrisiscomics.com/event/mtg-war-of-the-spark-prerelease-6/
LOCATION:Secret Crisis Comics\, 1161 South Main Street\, Chelsea\, MI\, 48118\, United States
ORGANIZER;CN="Secret Crisis Comics":MAILTO:secretcrisiscomics@gmail.com
END:VEVENT
BEGIN:VEVENT
DTSTART;VALUE=DATE:20190429
DTEND;VALUE=DATE:20190430
DTSTAMP:20260419T080037
CREATED:20190415T234638Z
LAST-MODIFIED:20190415T234638Z
UID:682-1556496000-1556582399@secretcrisiscomics.com
SUMMARY:STORE CLOSED TODAY
DESCRIPTION:
URL:https://secretcrisiscomics.com/event/store-closed-today-2/
LOCATION:Secret Crisis Comics\, 1161 South Main Street\, Chelsea\, MI\, 48118\, United States
END:VEVENT
END:VCALENDAR