BEGIN:VCALENDAR
VERSION:2.0
PRODID:-//Secret Crisis Comics - ECPv6.15.20//NONSGML v1.0//EN
CALSCALE:GREGORIAN
METHOD:PUBLISH
X-WR-CALNAME:Secret Crisis Comics
X-ORIGINAL-URL:https://secretcrisiscomics.com
X-WR-CALDESC:Events for Secret Crisis Comics
REFRESH-INTERVAL;VALUE=DURATION:PT1H
X-Robots-Tag:noindex
X-PUBLISHED-TTL:PT1H
BEGIN:VTIMEZONE
TZID:America/Halifax
BEGIN:DAYLIGHT
TZOFFSETFROM:-0400
TZOFFSETTO:-0300
TZNAME:ADT
DTSTART:20180311T060000
END:DAYLIGHT
BEGIN:STANDARD
TZOFFSETFROM:-0300
TZOFFSETTO:-0400
TZNAME:AST
DTSTART:20181104T050000
END:STANDARD
BEGIN:DAYLIGHT
TZOFFSETFROM:-0400
TZOFFSETTO:-0300
TZNAME:ADT
DTSTART:20190310T060000
END:DAYLIGHT
BEGIN:STANDARD
TZOFFSETFROM:-0300
TZOFFSETTO:-0400
TZNAME:AST
DTSTART:20191103T050000
END:STANDARD
BEGIN:DAYLIGHT
TZOFFSETFROM:-0400
TZOFFSETTO:-0300
TZNAME:ADT
DTSTART:20200308T060000
END:DAYLIGHT
BEGIN:STANDARD
TZOFFSETFROM:-0300
TZOFFSETTO:-0400
TZNAME:AST
DTSTART:20201101T050000
END:STANDARD
END:VTIMEZONE
BEGIN:VEVENT
DTSTART;TZID=America/Halifax:20190301T174500
DTEND;TZID=America/Halifax:20190301T220000
DTSTAMP:20260421T045624
CREATED:20190225T212608Z
LAST-MODIFIED:20190225T212608Z
UID:542-1551462300-1551477600@secretcrisiscomics.com
SUMMARY:Friday Night Magic: Chaos Draft
DESCRIPTION:Chaos draft using Guilds of Ravnica and Ravnica Allegiance\n$16 entry\nSwiss format\nPrizes to top players\nEveryone who finishes gets an exit pack
URL:https://secretcrisiscomics.com/event/friday-night-magic-chaos-draft/
LOCATION:Secret Crisis Comics\, 1161 South Main Street\, Chelsea\, MI\, 48118\, United States
ORGANIZER;CN="Secret Crisis Comics":MAILTO:secretcrisiscomics@gmail.com
END:VEVENT
BEGIN:VEVENT
DTSTART;TZID=America/Halifax:20190302T130000
DTEND;TZID=America/Halifax:20190302T180000
DTSTAMP:20260421T045624
CREATED:20190225T212803Z
LAST-MODIFIED:20190225T212921Z
UID:544-1551531600-1551549600@secretcrisiscomics.com
SUMMARY:Keyforge: Archon Tournament
DESCRIPTION:$5 entry\nSwiss format\nRules\nPrizes to top players
URL:https://secretcrisiscomics.com/event/keyforge-archon-tournament/
LOCATION:Secret Crisis Comics\, 1161 South Main Street\, Chelsea\, MI\, 48118\, United States
ORGANIZER;CN="Secret Crisis Comics":MAILTO:secretcrisiscomics@gmail.com
END:VEVENT
BEGIN:VEVENT
DTSTART;TZID=America/Halifax:20190303T134500
DTEND;TZID=America/Halifax:20190303T170000
DTSTAMP:20260421T045624
CREATED:20190225T212337Z
LAST-MODIFIED:20190225T212337Z
UID:540-1551620700-1551632400@secretcrisiscomics.com
SUMMARY:MTG: Commander Challenge
DESCRIPTION:Bring your best commander deck and battle others\, mono e mono.\n$5 entry\nSwiss format (3 rounds)\nPrizes to top players\nEveryone who finishes gets an exit pack
URL:https://secretcrisiscomics.com/event/mtg-commander-challenge-2/
LOCATION:Secret Crisis Comics\, 1161 South Main Street\, Chelsea\, MI\, 48118\, United States
END:VEVENT
BEGIN:VEVENT
DTSTART;TZID=America/Halifax:20190308T174500
DTEND;TZID=America/Halifax:20190308T210000
DTSTAMP:20260421T045624
CREATED:20190225T213214Z
LAST-MODIFIED:20190225T213214Z
UID:546-1552067100-1552078800@secretcrisiscomics.com
SUMMARY:Friday Night Magic: Standard Challenge
DESCRIPTION:$5 entry\nBring you best standard deck\nSwiss format\nPrizes to top players\nEveryone who finishes receives an exit pack
URL:https://secretcrisiscomics.com/event/friday-night-magic-standard-challenge/
LOCATION:Secret Crisis Comics\, 1161 South Main Street\, Chelsea\, MI\, 48118\, United States
ORGANIZER;CN="Secret Crisis Comics":MAILTO:secretcrisiscomics@gmail.com
END:VEVENT
BEGIN:VEVENT
DTSTART;TZID=America/Halifax:20190309T150000
DTEND;TZID=America/Halifax:20190309T170000
DTSTAMP:20260421T045624
CREATED:20190225T214101Z
LAST-MODIFIED:20190225T214101Z
UID:548-1552143600-1552150800@secretcrisiscomics.com
SUMMARY:Steam Game Test!!!
DESCRIPTION:3PM to 5PM\nPlay a new unannounced video game from Heart Shaped Games\,\ngive feedback\, and help shape the future of this new game!\nReceive a free Steam Key from HSG’s back catalog for participating!
URL:https://secretcrisiscomics.com/event/steam-game-test/
LOCATION:Secret Crisis Comics\, 1161 South Main Street\, Chelsea\, MI\, 48118\, United States
ORGANIZER;CN="Secret Crisis Comics":MAILTO:secretcrisiscomics@gmail.com
END:VEVENT
BEGIN:VEVENT
DTSTART;TZID=America/Halifax:20190310T134500
DTEND;TZID=America/Halifax:20190310T180000
DTSTAMP:20260421T045624
CREATED:20190225T214245Z
LAST-MODIFIED:20190225T214245Z
UID:550-1552225500-1552240800@secretcrisiscomics.com
SUMMARY:MTG: Commander Battle
DESCRIPTION:Bring your best commander deck and battle others\, mono e mono.\n\n  \n\n$5 entry\nSwiss format (3 rounds)\nPrizes to top players\nEveryone who finishes gets an exit pack
URL:https://secretcrisiscomics.com/event/mtg-commander-battle/
LOCATION:Secret Crisis Comics\, 1161 South Main Street\, Chelsea\, MI\, 48118\, United States
ORGANIZER;CN="Secret Crisis Comics":MAILTO:secretcrisiscomics@gmail.com
END:VEVENT
BEGIN:VEVENT
DTSTART;TZID=America/Halifax:20190315T174500
DTEND;TZID=America/Halifax:20190315T220000
DTSTAMP:20260421T045624
CREATED:20190225T214411Z
LAST-MODIFIED:20190225T214411Z
UID:552-1552671900-1552687200@secretcrisiscomics.com
SUMMARY:Friday Night Magic: Ixalan Draft
DESCRIPTION:$16 entry\nSwiss format\nPrizes to top players\nEveryone who finishes gets an exit pack
URL:https://secretcrisiscomics.com/event/friday-night-magic-ixalan-draft/
LOCATION:Secret Crisis Comics\, 1161 South Main Street\, Chelsea\, MI\, 48118\, United States
ORGANIZER;CN="Secret Crisis Comics":MAILTO:secretcrisiscomics@gmail.com
END:VEVENT
BEGIN:VEVENT
DTSTART;TZID=America/Halifax:20190317T140000
DTEND;TZID=America/Halifax:20190317T173000
DTSTAMP:20260421T045624
CREATED:20190307T041810Z
LAST-MODIFIED:20190313T025304Z
UID:575-1552831200-1552843800@secretcrisiscomics.com
SUMMARY:MTG - Two-Headed Giant EDH
DESCRIPTION:2:00PM to 5:30PM\nFree\nBring a partner or bring two commander decks that gel\nThis is a trial run to see time\, etc.
URL:https://secretcrisiscomics.com/event/mtg-standard-challenge/
LOCATION:Secret Crisis Comics\, 1161 South Main Street\, Chelsea\, MI\, 48118\, United States
ORGANIZER;CN="Secret Crisis Comics":MAILTO:secretcrisiscomics@gmail.com
END:VEVENT
BEGIN:VEVENT
DTSTART;TZID=America/Halifax:20190322T180000
DTEND;TZID=America/Halifax:20190322T220000
DTSTAMP:20260421T045624
CREATED:20190307T042037Z
LAST-MODIFIED:20190307T042037Z
UID:577-1553277600-1553292000@secretcrisiscomics.com
SUMMARY:Friday Night Magic - Commander Battles
DESCRIPTION:Bring your best commander deck and battle opponents in singular battle\n6:00PM to 10:00PM\n$5\nMultiple rounds (Swiss)\nPrizes for top players\nExit packs to all finishers
URL:https://secretcrisiscomics.com/event/friday-night-magic-commander-battles/
LOCATION:Secret Crisis Comics\, 1161 South Main Street\, Chelsea\, MI\, 48118\, United States
ORGANIZER;CN="Secret Crisis Comics":MAILTO:secretcrisiscomics@gmail.com
END:VEVENT
BEGIN:VEVENT
DTSTART;TZID=America/Halifax:20190324T140000
DTEND;TZID=America/Halifax:20190324T180000
DTSTAMP:20260421T045624
CREATED:20190322T005113Z
LAST-MODIFIED:20190322T005113Z
UID:605-1553436000-1553450400@secretcrisiscomics.com
SUMMARY:MTG - Modern Battle
DESCRIPTION:Modern decks (with sideboard)\n$5 entry\nPrizes for top finishers\nAt the end\, all participants receive an exit pack
URL:https://secretcrisiscomics.com/event/mtg-modern-battle/
LOCATION:Secret Crisis Comics\, 1161 South Main Street\, Chelsea\, MI\, 48118\, United States
END:VEVENT
BEGIN:VEVENT
DTSTART;TZID=America/Halifax:20190329T180000
DTEND;TZID=America/Halifax:20190329T220000
DTSTAMP:20260421T045624
CREATED:20190307T042538Z
LAST-MODIFIED:20190307T042538Z
UID:581-1553882400-1553896800@secretcrisiscomics.com
SUMMARY:FNM - Magic Chaos Draft (standard edition)
DESCRIPTION:6:00PM to 10:00PM\nChaos draft – Standard edition\nSets: Ravnica Allegiance\, Guilds of Ravnica\, Dominaria\, Core 2019\, Ixan\, and Rivals of Ixalan (choose 3 packs)\n$16\nPrizes to top players\nAll finishers receive an exit pack
URL:https://secretcrisiscomics.com/event/fnm-magic-chaos-draft-standard-edition/
LOCATION:Secret Crisis Comics\, 1161 South Main Street\, Chelsea\, MI\, 48118\, United States
ORGANIZER;CN="Secret Crisis Comics":MAILTO:secretcrisiscomics@gmail.com
END:VEVENT
BEGIN:VEVENT
DTSTART;TZID=America/Halifax:20190331T140000
DTEND;TZID=America/Halifax:20190331T180000
DTSTAMP:20260421T045624
CREATED:20190322T005551Z
LAST-MODIFIED:20190322T005551Z
UID:609-1554040800-1554055200@secretcrisiscomics.com
SUMMARY:MTG - Commander Battle
DESCRIPTION:2:00PM to 6:00PM\n$5\nBring you best commander deck and battle it out in single competition\nPrizes to top players\nAll finishers receive and exit pack
URL:https://secretcrisiscomics.com/event/mtg-commander-battle-3/
LOCATION:Secret Crisis Comics\, 1161 South Main Street\, Chelsea\, MI\, 48118\, United States
ORGANIZER;CN="Secret Crisis Comics":MAILTO:secretcrisiscomics@gmail.com
END:VEVENT
END:VCALENDAR