BEGIN:VCALENDAR
VERSION:2.0
PRODID:-//Secret Crisis Comics - ECPv6.15.20//NONSGML v1.0//EN
CALSCALE:GREGORIAN
METHOD:PUBLISH
X-WR-CALNAME:Secret Crisis Comics
X-ORIGINAL-URL:https://secretcrisiscomics.com
X-WR-CALDESC:Events for Secret Crisis Comics
REFRESH-INTERVAL;VALUE=DURATION:PT1H
X-Robots-Tag:noindex
X-PUBLISHED-TTL:PT1H
BEGIN:VTIMEZONE
TZID:America/Detroit
BEGIN:DAYLIGHT
TZOFFSETFROM:-0500
TZOFFSETTO:-0400
TZNAME:EDT
DTSTART:20230312T070000
END:DAYLIGHT
BEGIN:STANDARD
TZOFFSETFROM:-0400
TZOFFSETTO:-0500
TZNAME:EST
DTSTART:20231105T060000
END:STANDARD
BEGIN:DAYLIGHT
TZOFFSETFROM:-0500
TZOFFSETTO:-0400
TZNAME:EDT
DTSTART:20240310T070000
END:DAYLIGHT
BEGIN:STANDARD
TZOFFSETFROM:-0400
TZOFFSETTO:-0500
TZNAME:EST
DTSTART:20241103T060000
END:STANDARD
BEGIN:DAYLIGHT
TZOFFSETFROM:-0500
TZOFFSETTO:-0400
TZNAME:EDT
DTSTART:20250309T070000
END:DAYLIGHT
BEGIN:STANDARD
TZOFFSETFROM:-0400
TZOFFSETTO:-0500
TZNAME:EST
DTSTART:20251102T060000
END:STANDARD
END:VTIMEZONE
BEGIN:VEVENT
DTSTART;TZID=America/Detroit:20240504T100000
DTEND;TZID=America/Detroit:20240504T180000
DTSTAMP:20260424T105808
CREATED:20240427T211721Z
LAST-MODIFIED:20240427T211721Z
UID:2881-1714816800-1714845600@secretcrisiscomics.com
SUMMARY:FREE COMIC BOOK DAY!!!!
DESCRIPTION:We will have: \n\nFree Comics\nA special guest superhero\nPrizes with purchase over $10\nThe Girl Scouts will be selling cookies\nSales
URL:https://secretcrisiscomics.com/event/free-comic-book-day-2/
LOCATION:Secret Crisis Comics\, 1161 South Main Street\, Chelsea\, MI\, 48118\, United States
CATEGORIES:Comics
ORGANIZER;CN="Secret Crisis Comics":MAILTO:secretcrisiscomics@gmail.com
END:VEVENT
END:VCALENDAR