BEGIN:VCALENDAR
VERSION:2.0
PRODID:-//Secret Crisis Comics - ECPv6.15.20//NONSGML v1.0//EN
CALSCALE:GREGORIAN
METHOD:PUBLISH
X-WR-CALNAME:Secret Crisis Comics
X-ORIGINAL-URL:https://secretcrisiscomics.com
X-WR-CALDESC:Events for Secret Crisis Comics
REFRESH-INTERVAL;VALUE=DURATION:PT1H
X-Robots-Tag:noindex
X-PUBLISHED-TTL:PT1H
BEGIN:VTIMEZONE
TZID:America/Halifax
BEGIN:DAYLIGHT
TZOFFSETFROM:-0400
TZOFFSETTO:-0300
TZNAME:ADT
DTSTART:20180311T060000
END:DAYLIGHT
BEGIN:STANDARD
TZOFFSETFROM:-0300
TZOFFSETTO:-0400
TZNAME:AST
DTSTART:20181104T050000
END:STANDARD
BEGIN:DAYLIGHT
TZOFFSETFROM:-0400
TZOFFSETTO:-0300
TZNAME:ADT
DTSTART:20190310T060000
END:DAYLIGHT
BEGIN:STANDARD
TZOFFSETFROM:-0300
TZOFFSETTO:-0400
TZNAME:AST
DTSTART:20191103T050000
END:STANDARD
BEGIN:DAYLIGHT
TZOFFSETFROM:-0400
TZOFFSETTO:-0300
TZNAME:ADT
DTSTART:20200308T060000
END:DAYLIGHT
BEGIN:STANDARD
TZOFFSETFROM:-0300
TZOFFSETTO:-0400
TZNAME:AST
DTSTART:20201101T050000
END:STANDARD
END:VTIMEZONE
BEGIN:VEVENT
DTSTART;TZID=America/Halifax:20190329T180000
DTEND;TZID=America/Halifax:20190329T220000
DTSTAMP:20260421T092713
CREATED:20190307T042538Z
LAST-MODIFIED:20190307T042538Z
UID:581-1553882400-1553896800@secretcrisiscomics.com
SUMMARY:FNM - Magic Chaos Draft (standard edition)
DESCRIPTION:6:00PM to 10:00PM\nChaos draft – Standard edition\nSets: Ravnica Allegiance\, Guilds of Ravnica\, Dominaria\, Core 2019\, Ixan\, and Rivals of Ixalan (choose 3 packs)\n$16\nPrizes to top players\nAll finishers receive an exit pack
URL:https://secretcrisiscomics.com/event/fnm-magic-chaos-draft-standard-edition/
LOCATION:Secret Crisis Comics\, 1161 South Main Street\, Chelsea\, MI\, 48118\, United States
ORGANIZER;CN="Secret Crisis Comics":MAILTO:secretcrisiscomics@gmail.com
END:VEVENT
END:VCALENDAR