BEGIN:VCALENDAR
VERSION:2.0
PRODID:-//Secret Crisis Comics - ECPv6.15.20//NONSGML v1.0//EN
CALSCALE:GREGORIAN
METHOD:PUBLISH
X-WR-CALNAME:Secret Crisis Comics
X-ORIGINAL-URL:https://secretcrisiscomics.com
X-WR-CALDESC:Events for Secret Crisis Comics
REFRESH-INTERVAL;VALUE=DURATION:PT1H
X-Robots-Tag:noindex
X-PUBLISHED-TTL:PT1H
BEGIN:VTIMEZONE
TZID:America/Halifax
BEGIN:DAYLIGHT
TZOFFSETFROM:-0400
TZOFFSETTO:-0300
TZNAME:ADT
DTSTART:20180311T060000
END:DAYLIGHT
BEGIN:STANDARD
TZOFFSETFROM:-0300
TZOFFSETTO:-0400
TZNAME:AST
DTSTART:20181104T050000
END:STANDARD
BEGIN:DAYLIGHT
TZOFFSETFROM:-0400
TZOFFSETTO:-0300
TZNAME:ADT
DTSTART:20190310T060000
END:DAYLIGHT
BEGIN:STANDARD
TZOFFSETFROM:-0300
TZOFFSETTO:-0400
TZNAME:AST
DTSTART:20191103T050000
END:STANDARD
BEGIN:DAYLIGHT
TZOFFSETFROM:-0400
TZOFFSETTO:-0300
TZNAME:ADT
DTSTART:20200308T060000
END:DAYLIGHT
BEGIN:STANDARD
TZOFFSETFROM:-0300
TZOFFSETTO:-0400
TZNAME:AST
DTSTART:20201101T050000
END:STANDARD
END:VTIMEZONE
BEGIN:VEVENT
DTSTART;TZID=America/Halifax:20190217T134500
DTEND;TZID=America/Halifax:20190217T180000
DTSTAMP:20260421T142602
CREATED:20190202T070407Z
LAST-MODIFIED:20190202T070407Z
UID:498-1550411100-1550426400@secretcrisiscomics.com
SUMMARY:MTG: Guild Kit Battle
DESCRIPTION:Choose your guild and fight for honor and supremacy\nSign-up and pre-pay at the store\nGuilds selected from the 5 guild kits to be released on February 15 on a first-come-first-choice basis\n$18 to enter\n4 rounds\, Swiss format\nPrizes to top finishers
URL:https://secretcrisiscomics.com/event/mtg-guild-kit-battle/
LOCATION:MI
END:VEVENT
END:VCALENDAR