BEGIN:VCALENDAR
VERSION:2.0
PRODID:-//Secret Crisis Comics - ECPv6.15.20//NONSGML v1.0//EN
CALSCALE:GREGORIAN
METHOD:PUBLISH
X-ORIGINAL-URL:https://secretcrisiscomics.com
X-WR-CALDESC:Events for Secret Crisis Comics
REFRESH-INTERVAL;VALUE=DURATION:PT1H
X-Robots-Tag:noindex
X-PUBLISHED-TTL:PT1H
BEGIN:VTIMEZONE
TZID:America/Halifax
BEGIN:DAYLIGHT
TZOFFSETFROM:-0400
TZOFFSETTO:-0300
TZNAME:ADT
DTSTART:20180311T060000
END:DAYLIGHT
BEGIN:STANDARD
TZOFFSETFROM:-0300
TZOFFSETTO:-0400
TZNAME:AST
DTSTART:20181104T050000
END:STANDARD
BEGIN:DAYLIGHT
TZOFFSETFROM:-0400
TZOFFSETTO:-0300
TZNAME:ADT
DTSTART:20190310T060000
END:DAYLIGHT
BEGIN:STANDARD
TZOFFSETFROM:-0300
TZOFFSETTO:-0400
TZNAME:AST
DTSTART:20191103T050000
END:STANDARD
BEGIN:DAYLIGHT
TZOFFSETFROM:-0400
TZOFFSETTO:-0300
TZNAME:ADT
DTSTART:20200308T060000
END:DAYLIGHT
BEGIN:STANDARD
TZOFFSETFROM:-0300
TZOFFSETTO:-0400
TZNAME:AST
DTSTART:20201101T050000
END:STANDARD
END:VTIMEZONE
BEGIN:VEVENT
DTSTART;TZID=America/Halifax:20190210T134500
DTEND;TZID=America/Halifax:20190210T180000
DTSTAMP:20260421T093349
CREATED:20190128T041958Z
LAST-MODIFIED:20190202T070011Z
UID:479-1549806300-1549821600@secretcrisiscomics.com
SUMMARY:MTG: Commander Challenge
DESCRIPTION:Enough of that casual commander play! Let us see who truly rules.\n1:45PM to 6:00PM\nBring you best commander deck along with a 15 card sideboard\n$5 to enter\n3 rounds (or 4 if the crowd demands)\, Swiss format\nTop finishers will receive prizes
URL:https://secretcrisiscomics.com/event/mtg-casual-commander-3/
LOCATION:Secret Crisis Comics\, 1161 South Main Street\, Chelsea\, MI\, 48118\, United States
ORGANIZER;CN="Secret Crisis Comics":MAILTO:secretcrisiscomics@gmail.com
END:VEVENT
END:VCALENDAR